BEGIN:VCALENDAR
VERSION:2.0
PRODID:-//ChamberMaster//Event Calendar 2.0//EN
METHOD:PUBLISH
X-PUBLISHED-TTL:P1H
REFRESH-INTERVAL:P1H
CALSCALE:GREGORIAN
BEGIN:VTIMEZONE
TZID:America/Los_Angeles
BEGIN:DAYLIGHT
RRULE:FREQ=YEARLY;BYMONTH=3;BYDAY=2SU
DTSTART:20070101T000000
TZOFFSETFROM:-0800
TZOFFSETTO:-0700
TZNAME:Pacific Daylight Time
END:DAYLIGHT
BEGIN:STANDARD
RRULE:FREQ=YEARLY;BYMONTH=11;BYDAY=1SU
DTSTART:20070101T000000
TZOFFSETFROM:-0700
TZOFFSETTO:-0800
TZNAME:Pacific Standard Time
END:STANDARD
END:VTIMEZONE
BEGIN:VEVENT
DTSTART;TZID=America/Los_Angeles:20260917T173000
DTEND;TZID=America/Los_Angeles:20260917T200000
X-MICROSOFT-CDO-ALLDAYEVENT:FALSE
SUMMARY:Sip\, Support & Socialize 2026
DESCRIPTION:SAVE THE DATEBOMA Orange County's annual beer and wine reception\, benefiting BOMA OC's Government Affairs Committee. This is a premier opportunity to engage with top local BOMA OC Real Estate Professionals and Service Partners\, featuring appetizers and live music! *Special guests include Orange County's most influential local\, county\, state and congressional elected officials.
X-ALT-DESC;FMTTYPE=text/html:<!DOCTYPE html><html><head><title></title></head><body aria-disabled="false"><p>SAVE THE DATE</p><p>BOMA Orange County&#39\;s annual beer and wine reception\, benefiting BOMA OC&#39\;s Government Affairs Committee. This is a premier opportunity to engage with top local BOMA OC Real Estate Professionals and Service Partners\, featuring appetizers and live music! *Special guests include Orange County&#39\;s most influential local\, county\, state and congressional elected officials.</p></body></html>
LOCATION:18155 Von Karman Avenue Irvine 92612
UID:e.3271.1445880
SEQUENCE:3
DTSTAMP:20260424T182507Z
URL:https://business.bomaoc.org/eventcalendar2/Details/sip-support-socialize-2026-1712530?sourceTypeId=Hub
END:VEVENT
END:VCALENDAR
